BEGIN:VCALENDAR
VERSION:2.0
PRODID:-//Region 2 Planning Commission - ECPv6.6.4.2//NONSGML v1.0//EN
CALSCALE:GREGORIAN
METHOD:PUBLISH
X-WR-CALNAME:Region 2 Planning Commission
X-ORIGINAL-URL:https://www.region2planning.com
X-WR-CALDESC:Events for Region 2 Planning Commission
REFRESH-INTERVAL;VALUE=DURATION:PT1H
X-Robots-Tag:noindex
X-PUBLISHED-TTL:PT1H
BEGIN:VTIMEZONE
TZID:UTC
BEGIN:STANDARD
TZOFFSETFROM:+0000
TZOFFSETTO:+0000
TZNAME:UTC
DTSTART:20230101T000000
END:STANDARD
END:VTIMEZONE
BEGIN:VEVENT
DTSTART;TZID=UTC:20230518T080000
DTEND;TZID=UTC:20230518T090000
DTSTAMP:20260420T110118
CREATED:20221222T142758Z
LAST-MODIFIED:20221222T142805Z
UID:5522-1684396800-1684400400@www.region2planning.com
SUMMARY:JACTS Policy Committee Meeting
DESCRIPTION:The JACTS Policy Committee meeting will be held at 8:00 a.m. at the Jackson County Tower Bldg.\, 5th Floor\, 120 W. Michigan Ave.\, Jackson\, MI 49201.
URL:https://www.region2planning.com/event/jacts-policy-committee-meeting-3-2023-05-18/
LOCATION:MI
END:VEVENT
BEGIN:VEVENT
DTSTART;TZID=UTC:20230518T180000
DTEND;TZID=UTC:20230518T190000
DTSTAMP:20260420T110118
CREATED:20190423T122949Z
LAST-MODIFIED:20230420T172655Z
UID:2451-1684432800-1684436400@www.region2planning.com
SUMMARY:Lenawee County Planning Commission Meeting
DESCRIPTION:The Lenawee County Planning Commission meeting will be held at the Lenawee Room of the Human Services Bldg.\, 1040 S. Winter Street\, Adrian\, MI.
URL:https://www.region2planning.com/event/lenawee-county-planning-commission-meeting-2/
LOCATION:MI
CATEGORIES:Lenawee County
END:VEVENT
BEGIN:VEVENT
DTSTART;TZID=UTC:20230529T080000
DTEND;TZID=UTC:20230529T170000
DTSTAMP:20260420T110118
CREATED:20221221T182737Z
LAST-MODIFIED:20221221T182737Z
UID:5474-1685347200-1685379600@www.region2planning.com
SUMMARY:Memorial Day - Office Closed
DESCRIPTION:
URL:https://www.region2planning.com/event/memorial-day-office-closed/
LOCATION:MI
END:VEVENT
BEGIN:VEVENT
DTSTART;TZID=UTC:20230608T140000
DTEND;TZID=UTC:20230608T150000
DTSTAMP:20260420T110118
CREATED:20221222T140606Z
LAST-MODIFIED:20230601T152435Z
UID:5487-1686232800-1686236400@www.region2planning.com
SUMMARY:Region 2 Planning Commission Executive Committee Meeting
DESCRIPTION:The R2PC Executive Committee meeting will be held at 2:00 p.m. at the Jackson County Tower Bldg.\, 17th Floor\, 120 W. Michigan Ave.\, Jackson\, MI 49201.
URL:https://www.region2planning.com/event/region-2-planning-commission-executive-committee-meeting-9/
LOCATION:MI
END:VEVENT
BEGIN:VEVENT
DTSTART;TZID=UTC:20230608T180000
DTEND;TZID=UTC:20230608T193000
DTSTAMP:20260420T110118
CREATED:20190423T155246Z
LAST-MODIFIED:20240503T144350Z
UID:4090-1686247200-1686252600@www.region2planning.com
SUMMARY:Jackson County Planning Commission Meeting
DESCRIPTION:The Jackson County Planning Commission meeting will be held at 6:00 p.m. at the Jackson County Tower Bldg.\, 5th Floor\, 120 W. Michigan Ave.\, Jackson\, MI 49201.
URL:https://www.region2planning.com/event/jackson-county-planning-commission-meeting-2-2023-06-08/
LOCATION:Jackson County Tower Building\, 120 West Michigan Avenue\, Jackson\, MI\, 49201\, United States
END:VEVENT
BEGIN:VEVENT
DTSTART;TZID=UTC:20230614T093000
DTEND;TZID=UTC:20230614T103000
DTSTAMP:20260420T110118
CREATED:20221222T143222Z
LAST-MODIFIED:20221222T143225Z
UID:5542-1686735000-1686738600@www.region2planning.com
SUMMARY:JACTS Technical Advisory Committee Meeting
DESCRIPTION:The JACTS TAC meeting will be held at 9:30 a.m. at Jackson City Hall\, 10th Floor\, 161 W. Michigan Ave.\, Jackson\, MI 49201.
URL:https://www.region2planning.com/event/jacts-technical-advisory-committee-meeting-28/
LOCATION:MI
END:VEVENT
BEGIN:VEVENT
DTSTART;TZID=UTC:20230615T080000
DTEND;TZID=UTC:20230615T090000
DTSTAMP:20260420T110118
CREATED:20221222T142758Z
LAST-MODIFIED:20221222T142806Z
UID:5523-1686816000-1686819600@www.region2planning.com
SUMMARY:JACTS Policy Committee Meeting
DESCRIPTION:The JACTS Policy Committee meeting will be held at 8:00 a.m. at the Jackson County Tower Bldg.\, 5th Floor\, 120 W. Michigan Ave.\, Jackson\, MI 49201.
URL:https://www.region2planning.com/event/jacts-policy-committee-meeting-3-2023-06-15/
LOCATION:MI
END:VEVENT
BEGIN:VEVENT
DTSTART;TZID=UTC:20230615T180000
DTEND;TZID=UTC:20230615T190000
DTSTAMP:20260420T110118
CREATED:20190423T122949Z
LAST-MODIFIED:20190423T122949Z
UID:5677-1686852000-1686855600@www.region2planning.com
SUMMARY:Lenawee County Planning Commission Meeting
DESCRIPTION:The Lenawee County Planning Commission meeting will be held at the Lenawee Room of the Human Services Bldg.\, 1040 S. Winter Street\, Adrian\, MI.
URL:https://www.region2planning.com/event/lenawee-county-planning-commission-meeting-2-2023-06-15/
LOCATION:MI
CATEGORIES:Lenawee County
END:VEVENT
BEGIN:VEVENT
DTSTART;TZID=UTC:20230704T080000
DTEND;TZID=UTC:20230704T170000
DTSTAMP:20260420T110118
CREATED:20221221T182835Z
LAST-MODIFIED:20221221T182835Z
UID:5475-1688457600-1688490000@www.region2planning.com
SUMMARY:Independence Day - Office Closed
DESCRIPTION:
URL:https://www.region2planning.com/event/independence-day-office-closed/
LOCATION:MI
END:VEVENT
BEGIN:VEVENT
DTSTART;TZID=UTC:20230713T140000
DTEND;TZID=UTC:20230713T150000
DTSTAMP:20260420T110118
CREATED:20221222T140900Z
LAST-MODIFIED:20221222T140903Z
UID:5488-1689256800-1689260400@www.region2planning.com
SUMMARY:Region 2 Planning Commission Full Commission Meeting
DESCRIPTION:The R2PC Full Commission Full Commission will be held at 2:00 p.m. at the Lenawee District Library\, 4459 W. U.S. 223\, Adrian\, MI 49221.
URL:https://www.region2planning.com/event/region-2-planning-commission-full-commission-meeting-10/
LOCATION:MI
END:VEVENT
BEGIN:VEVENT
DTSTART;TZID=UTC:20230713T180000
DTEND;TZID=UTC:20230713T193000
DTSTAMP:20260420T110118
CREATED:20190423T155246Z
LAST-MODIFIED:20240503T144350Z
UID:4126-1689271200-1689276600@www.region2planning.com
SUMMARY:Jackson County Planning Commission Meeting
DESCRIPTION:The Jackson County Planning Commission meeting will be held at 6:00 p.m. at the Jackson County Tower Bldg.\, 5th Floor\, 120 W. Michigan Ave.\, Jackson\, MI 49201.
URL:https://www.region2planning.com/event/jackson-county-planning-commission-meeting-2-2023-07-13/
LOCATION:Jackson County Tower Building\, 120 West Michigan Avenue\, Jackson\, MI\, 49201\, United States
END:VEVENT
BEGIN:VEVENT
DTSTART;TZID=UTC:20230720T080000
DTEND;TZID=UTC:20230720T090000
DTSTAMP:20260420T110118
CREATED:20221222T142758Z
LAST-MODIFIED:20221222T142806Z
UID:5524-1689840000-1689843600@www.region2planning.com
SUMMARY:JACTS Policy Committee Meeting
DESCRIPTION:The JACTS Policy Committee meeting will be held at 8:00 a.m. at the Jackson County Tower Bldg.\, 5th Floor\, 120 W. Michigan Ave.\, Jackson\, MI 49201.
URL:https://www.region2planning.com/event/jacts-policy-committee-meeting-3-2023-07-20/
LOCATION:MI
END:VEVENT
BEGIN:VEVENT
DTSTART;TZID=UTC:20230720T180000
DTEND;TZID=UTC:20230720T190000
DTSTAMP:20260420T110118
CREATED:20190423T122949Z
LAST-MODIFIED:20190423T122949Z
UID:5678-1689876000-1689879600@www.region2planning.com
SUMMARY:Lenawee County Planning Commission Meeting
DESCRIPTION:The Lenawee County Planning Commission meeting will be held at the Lenawee Room of the Human Services Bldg.\, 1040 S. Winter Street\, Adrian\, MI.
URL:https://www.region2planning.com/event/lenawee-county-planning-commission-meeting-2-2023-07-20/
LOCATION:MI
CATEGORIES:Lenawee County
END:VEVENT
BEGIN:VEVENT
DTSTART;TZID=UTC:20230810T140000
DTEND;TZID=UTC:20230810T150000
DTSTAMP:20260420T110118
CREATED:20221222T141408Z
LAST-MODIFIED:20221222T141439Z
UID:5489-1691676000-1691679600@www.region2planning.com
SUMMARY:Region 2 Planning Commission Executive Committee
DESCRIPTION:The R2PC Executive Committee meeting will be held at 2:00 p.m. at Hillsdale City Hall\, 97 N. Broad Street\, Hillsdale\, MI 49242.
URL:https://www.region2planning.com/event/region-2-planning-commission-executive-committee/
LOCATION:MI
END:VEVENT
BEGIN:VEVENT
DTSTART;TZID=UTC:20230810T180000
DTEND;TZID=UTC:20230810T193000
DTSTAMP:20260420T110118
CREATED:20190423T155246Z
LAST-MODIFIED:20240503T144350Z
UID:4149-1691690400-1691695800@www.region2planning.com
SUMMARY:Jackson County Planning Commission Meeting
DESCRIPTION:The Jackson County Planning Commission meeting will be held at 6:00 p.m. at the Jackson County Tower Bldg.\, 5th Floor\, 120 W. Michigan Ave.\, Jackson\, MI 49201.
URL:https://www.region2planning.com/event/jackson-county-planning-commission-meeting-2-2023-08-10/
LOCATION:Jackson County Tower Building\, 120 West Michigan Avenue\, Jackson\, MI\, 49201\, United States
END:VEVENT
BEGIN:VEVENT
DTSTART;TZID=UTC:20230817T080000
DTEND;TZID=UTC:20230817T090000
DTSTAMP:20260420T110118
CREATED:20221222T142758Z
LAST-MODIFIED:20221222T142806Z
UID:5525-1692259200-1692262800@www.region2planning.com
SUMMARY:JACTS Policy Committee Meeting
DESCRIPTION:The JACTS Policy Committee meeting will be held at 8:00 a.m. at the Jackson County Tower Bldg.\, 5th Floor\, 120 W. Michigan Ave.\, Jackson\, MI 49201.
URL:https://www.region2planning.com/event/jacts-policy-committee-meeting-3-2023-08-17/
LOCATION:MI
END:VEVENT
BEGIN:VEVENT
DTSTART;TZID=UTC:20230817T180000
DTEND;TZID=UTC:20230817T190000
DTSTAMP:20260420T110118
CREATED:20190423T122949Z
LAST-MODIFIED:20190423T122949Z
UID:5679-1692295200-1692298800@www.region2planning.com
SUMMARY:Lenawee County Planning Commission Meeting
DESCRIPTION:The Lenawee County Planning Commission meeting will be held at the Lenawee Room of the Human Services Bldg.\, 1040 S. Winter Street\, Adrian\, MI.
URL:https://www.region2planning.com/event/lenawee-county-planning-commission-meeting-2-2023-08-17/
LOCATION:MI
CATEGORIES:Lenawee County
END:VEVENT
BEGIN:VEVENT
DTSTART;TZID=UTC:20230904T080000
DTEND;TZID=UTC:20230904T170000
DTSTAMP:20260420T110118
CREATED:20221221T182848Z
LAST-MODIFIED:20221221T182907Z
UID:5476-1693814400-1693846800@www.region2planning.com
SUMMARY:Labor Day - Office Closed
DESCRIPTION:
URL:https://www.region2planning.com/event/labor-day-office-closed/
LOCATION:MI
END:VEVENT
BEGIN:VEVENT
DTSTART;TZID=UTC:20230914T140000
DTEND;TZID=UTC:20230914T150000
DTSTAMP:20260420T110118
CREATED:20221222T141802Z
LAST-MODIFIED:20221222T141804Z
UID:5490-1694700000-1694703600@www.region2planning.com
SUMMARY:Region 2 Planning Commission Full Commission Meeting
DESCRIPTION:The R2PC Full Commission meeting will be held at 2:00 p.m. at the Jackson County Tower Bldg.\, 5th Floor\, 120 W. Michigan Ave.\, Jackson\, MI 49201.
URL:https://www.region2planning.com/event/region-2-planning-commission-full-commission-meeting-11/
LOCATION:MI
END:VEVENT
BEGIN:VEVENT
DTSTART;TZID=UTC:20230914T180000
DTEND;TZID=UTC:20230914T193000
DTSTAMP:20260420T110118
CREATED:20190423T155246Z
LAST-MODIFIED:20240503T144350Z
UID:4201-1694714400-1694719800@www.region2planning.com
SUMMARY:Jackson County Planning Commission Meeting
DESCRIPTION:The Jackson County Planning Commission meeting will be held at 6:00 p.m. at the Jackson County Tower Bldg.\, 5th Floor\, 120 W. Michigan Ave.\, Jackson\, MI 49201.
URL:https://www.region2planning.com/event/jackson-county-planning-commission-meeting-2-2023-09-14/
LOCATION:Jackson County Tower Building\, 120 West Michigan Avenue\, Jackson\, MI\, 49201\, United States
END:VEVENT
BEGIN:VEVENT
DTSTART;TZID=UTC:20230921T080000
DTEND;TZID=UTC:20230921T090000
DTSTAMP:20260420T110118
CREATED:20221222T142758Z
LAST-MODIFIED:20221222T142806Z
UID:5526-1695283200-1695286800@www.region2planning.com
SUMMARY:JACTS Policy Committee Meeting
DESCRIPTION:The JACTS Policy Committee meeting will be held at 8:00 a.m. at the Jackson County Tower Bldg.\, 5th Floor\, 120 W. Michigan Ave.\, Jackson\, MI 49201.
URL:https://www.region2planning.com/event/jacts-policy-committee-meeting-3-2023-09-21/
LOCATION:MI
END:VEVENT
BEGIN:VEVENT
DTSTART;TZID=UTC:20230921T180000
DTEND;TZID=UTC:20230921T190000
DTSTAMP:20260420T110118
CREATED:20190423T122949Z
LAST-MODIFIED:20190423T122949Z
UID:5680-1695319200-1695322800@www.region2planning.com
SUMMARY:Lenawee County Planning Commission Meeting
DESCRIPTION:The Lenawee County Planning Commission meeting will be held at the Lenawee Room of the Human Services Bldg.\, 1040 S. Winter Street\, Adrian\, MI.
URL:https://www.region2planning.com/event/lenawee-county-planning-commission-meeting-2-2023-09-21/
LOCATION:MI
CATEGORIES:Lenawee County
END:VEVENT
BEGIN:VEVENT
DTSTART;TZID=UTC:20231012T140000
DTEND;TZID=UTC:20231012T150000
DTSTAMP:20260420T110118
CREATED:20221222T141910Z
LAST-MODIFIED:20221222T141913Z
UID:5491-1697119200-1697122800@www.region2planning.com
SUMMARY:Region 2 Planning Commission Executive Committee Meeting
DESCRIPTION:The R2PC Executive Committee meeting will be held at 2:00 p.m. at the Lenawee District Library\, 4459 W. U.S. 223\, Adrian\, MI 49221.
URL:https://www.region2planning.com/event/region-2-planning-commission-executive-committee-meeting-10/
LOCATION:MI
END:VEVENT
BEGIN:VEVENT
DTSTART;TZID=UTC:20231012T180000
DTEND;TZID=UTC:20231012T193000
DTSTAMP:20260420T110118
CREATED:20190423T155246Z
LAST-MODIFIED:20240503T144351Z
UID:4236-1697133600-1697139000@www.region2planning.com
SUMMARY:Jackson County Planning Commission Meeting
DESCRIPTION:The Jackson County Planning Commission meeting will be held at 6:00 p.m. at the Jackson County Tower Bldg.\, 5th Floor\, 120 W. Michigan Ave.\, Jackson\, MI 49201.
URL:https://www.region2planning.com/event/jackson-county-planning-commission-meeting-2-2023-10-12/
LOCATION:Jackson County Tower Building\, 120 West Michigan Avenue\, Jackson\, MI\, 49201\, United States
END:VEVENT
BEGIN:VEVENT
DTSTART;TZID=UTC:20231019T080000
DTEND;TZID=UTC:20231019T090000
DTSTAMP:20260420T110118
CREATED:20221222T142758Z
LAST-MODIFIED:20221222T142806Z
UID:5527-1697702400-1697706000@www.region2planning.com
SUMMARY:JACTS Policy Committee Meeting
DESCRIPTION:The JACTS Policy Committee meeting will be held at 8:00 a.m. at the Jackson County Tower Bldg.\, 5th Floor\, 120 W. Michigan Ave.\, Jackson\, MI 49201.
URL:https://www.region2planning.com/event/jacts-policy-committee-meeting-3-2023-10-19/
LOCATION:MI
END:VEVENT
BEGIN:VEVENT
DTSTART;TZID=UTC:20231019T180000
DTEND;TZID=UTC:20231019T190000
DTSTAMP:20260420T110118
CREATED:20190423T122949Z
LAST-MODIFIED:20190423T122949Z
UID:5681-1697738400-1697742000@www.region2planning.com
SUMMARY:Lenawee County Planning Commission Meeting
DESCRIPTION:The Lenawee County Planning Commission meeting will be held at the Lenawee Room of the Human Services Bldg.\, 1040 S. Winter Street\, Adrian\, MI.
URL:https://www.region2planning.com/event/lenawee-county-planning-commission-meeting-2-2023-10-19/
LOCATION:MI
CATEGORIES:Lenawee County
END:VEVENT
BEGIN:VEVENT
DTSTART;TZID=UTC:20231109T140000
DTEND;TZID=UTC:20231109T150000
DTSTAMP:20260420T110118
CREATED:20221222T142004Z
LAST-MODIFIED:20221222T142007Z
UID:5492-1699538400-1699542000@www.region2planning.com
SUMMARY:Region 2 Planning Commission Full Commission Meeting
DESCRIPTION:The R2PC Full Commission meeting will be held at 2:00 p.m. at Hillsdale City Hall\, 97 N. Broad Street\, Hillsdale\, MI 49242.
URL:https://www.region2planning.com/event/region-2-planning-commission-full-commission-meeting-12/
LOCATION:MI
END:VEVENT
BEGIN:VEVENT
DTSTART;TZID=UTC:20231109T180000
DTEND;TZID=UTC:20231109T193000
DTSTAMP:20260420T110118
CREATED:20190423T155246Z
LAST-MODIFIED:20240503T144351Z
UID:4264-1699552800-1699558200@www.region2planning.com
SUMMARY:Jackson County Planning Commission Meeting
DESCRIPTION:The Jackson County Planning Commission meeting will be held at 6:00 p.m. at the Jackson County Tower Bldg.\, 5th Floor\, 120 W. Michigan Ave.\, Jackson\, MI 49201.
URL:https://www.region2planning.com/event/jackson-county-planning-commission-meeting-2-2023-11-09/
LOCATION:Jackson County Tower Building\, 120 West Michigan Avenue\, Jackson\, MI\, 49201\, United States
END:VEVENT
BEGIN:VEVENT
DTSTART;TZID=UTC:20231110T080000
DTEND;TZID=UTC:20231110T170000
DTSTAMP:20260420T110118
CREATED:20221221T183241Z
LAST-MODIFIED:20221221T183241Z
UID:5477-1699603200-1699635600@www.region2planning.com
SUMMARY:Veteran's Day Observed - Office Closed
DESCRIPTION:
URL:https://www.region2planning.com/event/veterans-day-observed-office-closed/
LOCATION:MI
END:VEVENT
BEGIN:VEVENT
DTSTART;TZID=UTC:20231116T080000
DTEND;TZID=UTC:20231116T090000
DTSTAMP:20260420T110118
CREATED:20221222T142758Z
LAST-MODIFIED:20221222T142806Z
UID:5528-1700121600-1700125200@www.region2planning.com
SUMMARY:JACTS Policy Committee Meeting
DESCRIPTION:The JACTS Policy Committee meeting will be held at 8:00 a.m. at the Jackson County Tower Bldg.\, 5th Floor\, 120 W. Michigan Ave.\, Jackson\, MI 49201.
URL:https://www.region2planning.com/event/jacts-policy-committee-meeting-3-2023-11-16/
LOCATION:MI
END:VEVENT
END:VCALENDAR