BEGIN:VCALENDAR
VERSION:2.0
PRODID:-//Region 2 Planning Commission - ECPv6.6.4.2//NONSGML v1.0//EN
CALSCALE:GREGORIAN
METHOD:PUBLISH
X-WR-CALNAME:Region 2 Planning Commission
X-ORIGINAL-URL:https://www.region2planning.com
X-WR-CALDESC:Events for Region 2 Planning Commission
REFRESH-INTERVAL;VALUE=DURATION:PT1H
X-Robots-Tag:noindex
X-PUBLISHED-TTL:PT1H
BEGIN:VTIMEZONE
TZID:UTC
BEGIN:STANDARD
TZOFFSETFROM:+0000
TZOFFSETTO:+0000
TZNAME:UTC
DTSTART:20250101T000000
END:STANDARD
END:VTIMEZONE
BEGIN:VEVENT
DTSTART;TZID=UTC:20250918T180000
DTEND;TZID=UTC:20250918T190000
DTSTAMP:20260422T085014
CREATED:20190423T122949Z
LAST-MODIFIED:20190423T122949Z
UID:5944-1758218400-1758222000@www.region2planning.com
SUMMARY:Lenawee County Planning Commission Meeting
DESCRIPTION:The Lenawee County Planning Commission meeting will be held at the Lenawee Room of the Human Services Bldg.\, 1040 S. Winter Street\, Adrian\, MI.
URL:https://www.region2planning.com/event/lenawee-county-planning-commission-meeting-2-2025-09-18/
CATEGORIES:Lenawee County
END:VEVENT
BEGIN:VEVENT
DTSTART;TZID=UTC:20250918T080000
DTEND;TZID=UTC:20250918T090000
DTSTAMP:20260422T085014
CREATED:20221222T142758Z
LAST-MODIFIED:20221222T142758Z
UID:5946-1758182400-1758186000@www.region2planning.com
SUMMARY:JACTS Policy Committee Meeting
DESCRIPTION:The JACTS Policy Committee meeting will be held at 8:00 a.m. at the Jackson County Tower Bldg.\, 5th Floor\, 120 W. Michigan Ave.\, Jackson\, MI 49201.
URL:https://www.region2planning.com/event/jacts-policy-committee-meeting-3-2025-09-18/
END:VEVENT
BEGIN:VEVENT
DTSTART;TZID=UTC:20250911T180000
DTEND;TZID=UTC:20250911T193000
DTSTAMP:20260422T085014
CREATED:20190423T155246Z
LAST-MODIFIED:20240503T144356Z
UID:5930-1757613600-1757619000@www.region2planning.com
SUMMARY:Jackson County Planning Commission Meeting
DESCRIPTION:The Jackson County Planning Commission meeting will be held at 6:00 p.m. at the Jackson County Tower Bldg.\, 5th Floor\, 120 W. Michigan Ave.\, Jackson\, MI 49201.
URL:https://www.region2planning.com/event/jackson-county-planning-commission-meeting-2-2025-09-11/
LOCATION:Jackson County Tower Building\, 120 West Michigan Avenue\, Jackson\, MI\, 49201\, United States
END:VEVENT
BEGIN:VEVENT
DTSTART;TZID=UTC:20250911T140000
DTEND;TZID=UTC:20250911T150000
DTSTAMP:20260422T085014
CREATED:20241211T134136Z
LAST-MODIFIED:20241211T134137Z
UID:6735-1757599200-1757602800@www.region2planning.com
SUMMARY:Region 2 Planning Commission Full Commission Meeting
DESCRIPTION:The Region 2 Planning Commission Full Commission meeting will take place at 2:00 p.m. at the Lenawee District Library\, 4459 W. U.S. 223\, Adrian\, MI.
URL:https://www.region2planning.com/event/region-2-planning-commission-full-commission-meeting-16/
LOCATION:Lenawee District Library\, 4459 W. U.S. 223\, Adrian\, MI\, 49221\, United States
CATEGORIES:Region 2 Planning Commission
END:VEVENT
BEGIN:VEVENT
DTSTART;TZID=UTC:20250910T110000
DTEND;TZID=UTC:20250910T120000
DTSTAMP:20260422T085014
CREATED:20241218T165436Z
LAST-MODIFIED:20241218T165438Z
UID:6763-1757502000-1757505600@www.region2planning.com
SUMMARY:JACTS Technical Advisory Committee Meeting
DESCRIPTION:The JACTS TAC meeting will be held at 11:00 a.m. at Jackson City Hall\, 161 W. Michigan Ave.\, 10th Floor\, Jackson\, MI 49201
URL:https://www.region2planning.com/event/jacts-technical-advisory-committee-meeting-50/
LOCATION:Jackson City Hall-10th Floor\, 161 West Michigan Avenue\, Jackson\, MI\, United States
CATEGORIES:Jackson Area Comprehensive Transportation Study
END:VEVENT
BEGIN:VEVENT
DTSTART;TZID=UTC:20250821T180000
DTEND;TZID=UTC:20250821T190000
DTSTAMP:20260422T085014
CREATED:20190423T122949Z
LAST-MODIFIED:20190423T122949Z
UID:5900-1755799200-1755802800@www.region2planning.com
SUMMARY:Lenawee County Planning Commission Meeting
DESCRIPTION:The Lenawee County Planning Commission meeting will be held at the Lenawee Room of the Human Services Bldg.\, 1040 S. Winter Street\, Adrian\, MI.
URL:https://www.region2planning.com/event/lenawee-county-planning-commission-meeting-2-2025-08-21/
CATEGORIES:Lenawee County
END:VEVENT
BEGIN:VEVENT
DTSTART;TZID=UTC:20250821T080000
DTEND;TZID=UTC:20250821T090000
DTSTAMP:20260422T085014
CREATED:20221222T142758Z
LAST-MODIFIED:20221222T142758Z
UID:5902-1755763200-1755766800@www.region2planning.com
SUMMARY:JACTS Policy Committee Meeting
DESCRIPTION:The JACTS Policy Committee meeting will be held at 8:00 a.m. at the Jackson County Tower Bldg.\, 5th Floor\, 120 W. Michigan Ave.\, Jackson\, MI 49201.
URL:https://www.region2planning.com/event/jacts-policy-committee-meeting-3-2025-08-21/
END:VEVENT
BEGIN:VEVENT
DTSTART;TZID=UTC:20250814T180000
DTEND;TZID=UTC:20250814T193000
DTSTAMP:20260422T085014
CREATED:20190423T155246Z
LAST-MODIFIED:20240503T144356Z
UID:5888-1755194400-1755199800@www.region2planning.com
SUMMARY:Jackson County Planning Commission Meeting
DESCRIPTION:The Jackson County Planning Commission meeting will be held at 6:00 p.m. at the Jackson County Tower Bldg.\, 5th Floor\, 120 W. Michigan Ave.\, Jackson\, MI 49201.
URL:https://www.region2planning.com/event/jackson-county-planning-commission-meeting-2-2025-08-14/
LOCATION:Jackson County Tower Building\, 120 West Michigan Avenue\, Jackson\, MI\, 49201\, United States
END:VEVENT
BEGIN:VEVENT
DTSTART;TZID=UTC:20250813T110000
DTEND;TZID=UTC:20250813T120000
DTSTAMP:20260422T085014
CREATED:20241218T165332Z
LAST-MODIFIED:20241218T165334Z
UID:6762-1755082800-1755086400@www.region2planning.com
SUMMARY:JACTS Technical Advisory Committee Meeting
DESCRIPTION:The JACTS TAC meeting will be held at 11:00 a.m. at Jackson City Hall\, 161 W. Michigan Ave.\, 10th Floor\, Jackson\, MI 49201
URL:https://www.region2planning.com/event/jacts-technical-advisory-committee-meeting-49/
LOCATION:Jackson City Hall-10th Floor\, 161 West Michigan Avenue\, Jackson\, MI\, United States
CATEGORIES:Jackson Area Comprehensive Transportation Study
END:VEVENT
BEGIN:VEVENT
DTSTART;TZID=UTC:20250717T180000
DTEND;TZID=UTC:20250717T190000
DTSTAMP:20260422T085014
CREATED:20190423T122949Z
LAST-MODIFIED:20190423T122949Z
UID:5848-1752775200-1752778800@www.region2planning.com
SUMMARY:Lenawee County Planning Commission Meeting
DESCRIPTION:The Lenawee County Planning Commission meeting will be held at the Lenawee Room of the Human Services Bldg.\, 1040 S. Winter Street\, Adrian\, MI.
URL:https://www.region2planning.com/event/lenawee-county-planning-commission-meeting-2-2025-07-17/
CATEGORIES:Lenawee County
END:VEVENT
BEGIN:VEVENT
DTSTART;TZID=UTC:20250717T080000
DTEND;TZID=UTC:20250717T090000
DTSTAMP:20260422T085014
CREATED:20221222T142758Z
LAST-MODIFIED:20221222T142758Z
UID:5850-1752739200-1752742800@www.region2planning.com
SUMMARY:JACTS Policy Committee Meeting
DESCRIPTION:The JACTS Policy Committee meeting will be held at 8:00 a.m. at the Jackson County Tower Bldg.\, 5th Floor\, 120 W. Michigan Ave.\, Jackson\, MI 49201.
URL:https://www.region2planning.com/event/jacts-policy-committee-meeting-3-2025-07-17/
END:VEVENT
BEGIN:VEVENT
DTSTART;TZID=UTC:20250710T180000
DTEND;TZID=UTC:20250710T193000
DTSTAMP:20260422T085014
CREATED:20190423T155246Z
LAST-MODIFIED:20241211T134914Z
UID:5837-1752170400-1752175800@www.region2planning.com
SUMMARY:Jackson County Planning Commission Meeting
DESCRIPTION:The Jackson County Planning Commission meeting will be held at 6:00 p.m. at the Jackson County Tower Bldg.\, 5th Floor\, 120 W. Michigan Ave.\, Jackson\, MI 49201.
URL:https://www.region2planning.com/event/jackson-county-planning-commission-meeting-2-2025-07-10/
LOCATION:Jackson County Tower Building\, 120 West Michigan Avenue\, Jackson\, MI\, 49201\, United States
CATEGORIES:Region 2 Planning Commission
END:VEVENT
BEGIN:VEVENT
DTSTART;TZID=UTC:20250710T140000
DTEND;TZID=UTC:20250710T150000
DTSTAMP:20260422T085014
CREATED:20241211T135044Z
LAST-MODIFIED:20250416T164139Z
UID:6734-1752156000-1752159600@www.region2planning.com
SUMMARY:Region 2 Planning Commission Full Commission Meeting
DESCRIPTION:The Region 2 Planning Commission Full Commission meeting will take place at 2:00 p.m. at the Jackson County Tower Bldg.\, 120 W. Michigan Ave.\, 5th Floor\, Jackson\, MI.
URL:https://www.region2planning.com/event/region-2-planning-commission-full-commission-meeting-18/
LOCATION:Jackson County Tower Building\, 120 West Michigan Avenue\, Jackson\, MI\, 49201\, United States
END:VEVENT
BEGIN:VEVENT
DTSTART;TZID=UTC:20250709T110000
DTEND;TZID=UTC:20250709T120000
DTSTAMP:20260422T085014
CREATED:20241218T165243Z
LAST-MODIFIED:20241218T165255Z
UID:6761-1752058800-1752062400@www.region2planning.com
SUMMARY:JACTS Technical Advisory Committee Meeting
DESCRIPTION:The JACTS TAC meeting will be held at 11:00 a.m. at Jackson City Hall\, 161 W. Michigan Ave.\, 10th Floor\, Jackson\, MI 49201
URL:https://www.region2planning.com/event/jacts-technical-advisory-committee-meeting-48/
LOCATION:Jackson City Hall-10th Floor\, 161 West Michigan Avenue\, Jackson\, MI\, United States
CATEGORIES:Jackson Area Comprehensive Transportation Study
END:VEVENT
BEGIN:VEVENT
DTSTART;TZID=UTC:20250619T180000
DTEND;TZID=UTC:20250619T190000
DTSTAMP:20260422T085014
CREATED:20250522T160632Z
LAST-MODIFIED:20250522T160816Z
UID:6937-1750356000-1750359600@www.region2planning.com
SUMMARY:DATE CHANGE for Lenawee County Planning Commission Meeting
DESCRIPTION:The Lenawee County Planning Commission meeting scheduled for Thursday\, June 19\, 2025 has been changed and was scheduled for June 11\, 2025 at 6:00 p.m. at the Human Services Building\, Lenawee Room\, Adrian\, MI.
URL:https://www.region2planning.com/event/date-change-for-lenawee-county-planning-commission-meeting/
CATEGORIES:Lenawee County
END:VEVENT
BEGIN:VEVENT
DTSTART;TZID=UTC:20250618T080000
DTEND;TZID=UTC:20250618T090000
DTSTAMP:20260422T085014
CREATED:20241219T175938Z
LAST-MODIFIED:20241219T180113Z
UID:6770-1750233600-1750237200@www.region2planning.com
SUMMARY:JACTS Policy Committee Meeting
DESCRIPTION:The JACTS Policy Committee meeting will be held at 8:00 a.m. at the Jackson County Tower Bldg.\, 5th Floor\, 120 W. Michigan Ave.\, Jackson\, MI 49201.
URL:https://www.region2planning.com/event/jacts-policy-committee-meeting-13/
LOCATION:Jackson County Tower Building\, 120 West Michigan Avenue\, Jackson\, MI\, 49201\, United States
CATEGORIES:Jackson Area Comprehensive Transportation Study
END:VEVENT
BEGIN:VEVENT
DTSTART;TZID=UTC:20250612T180000
DTEND;TZID=UTC:20250612T193000
DTSTAMP:20260422T085014
CREATED:20190423T155246Z
LAST-MODIFIED:20240503T144355Z
UID:5772-1749751200-1749756600@www.region2planning.com
SUMMARY:Jackson County Planning Commission Meeting
DESCRIPTION:The Jackson County Planning Commission meeting will be held at 6:00 p.m. at the Jackson County Tower Bldg.\, 5th Floor\, 120 W. Michigan Ave.\, Jackson\, MI 49201.
URL:https://www.region2planning.com/event/jackson-county-planning-commission-meeting-2-2025-06-12/
LOCATION:Jackson County Tower Building\, 120 West Michigan Avenue\, Jackson\, MI\, 49201\, United States
END:VEVENT
BEGIN:VEVENT
DTSTART;TZID=UTC:20250611T180000
DTEND;TZID=UTC:20250611T190000
DTSTAMP:20260422T085014
CREATED:20250522T160438Z
LAST-MODIFIED:20250522T160443Z
UID:6936-1749664800-1749668400@www.region2planning.com
SUMMARY:June 11\, 2025 - Lenawee County Planning Commission Meeting
DESCRIPTION:The Lenawee County Planning Commission meeting will be held at the Lenawee Room of the Human Services Bldg.\, 1040 S. Winter Street\, Adrian\, MI.
URL:https://www.region2planning.com/event/june-11-2025-lenawee-county-planning-commission-meeting/
CATEGORIES:Lenawee County
END:VEVENT
BEGIN:VEVENT
DTSTART;TZID=UTC:20250611T110000
DTEND;TZID=UTC:20250611T120000
DTSTAMP:20260422T085014
CREATED:20241218T165156Z
LAST-MODIFIED:20241218T165158Z
UID:6760-1749639600-1749643200@www.region2planning.com
SUMMARY:JACTS Technical Advisory Committee Meeting
DESCRIPTION:The JACTS TAC meeting will be held at 11:00 a.m. at Jackson City Hall\, 161 W. Michigan Ave.\, 10th Floor\, Jackson\, MI 49201
URL:https://www.region2planning.com/event/jacts-technical-advisory-committee-meeting-47/
LOCATION:Jackson City Hall-10th Floor\, 161 West Michigan Avenue\, Jackson\, MI\, United States
CATEGORIES:Jackson Area Comprehensive Transportation Study
END:VEVENT
BEGIN:VEVENT
DTSTART;TZID=UTC:20250515T180000
DTEND;TZID=UTC:20250515T190000
DTSTAMP:20260422T085014
CREATED:20190423T122949Z
LAST-MODIFIED:20190423T122949Z
UID:5717-1747332000-1747335600@www.region2planning.com
SUMMARY:Lenawee County Planning Commission Meeting
DESCRIPTION:The Lenawee County Planning Commission meeting will be held at the Lenawee Room of the Human Services Bldg.\, 1040 S. Winter Street\, Adrian\, MI.
URL:https://www.region2planning.com/event/lenawee-county-planning-commission-meeting-2-2025-05-15/
CATEGORIES:Lenawee County
END:VEVENT
BEGIN:VEVENT
DTSTART;TZID=UTC:20250515T080000
DTEND;TZID=UTC:20250515T090000
DTSTAMP:20260422T085014
CREATED:20221222T142758Z
LAST-MODIFIED:20221222T142758Z
UID:5719-1747296000-1747299600@www.region2planning.com
SUMMARY:JACTS Policy Committee Meeting
DESCRIPTION:The JACTS Policy Committee meeting will be held at 8:00 a.m. at the Jackson County Tower Bldg.\, 5th Floor\, 120 W. Michigan Ave.\, Jackson\, MI 49201.
URL:https://www.region2planning.com/event/jacts-policy-committee-meeting-3-2025-05-15/
END:VEVENT
BEGIN:VEVENT
DTSTART;TZID=UTC:20250508T180000
DTEND;TZID=UTC:20250508T193000
DTSTAMP:20260422T085014
CREATED:20190423T155246Z
LAST-MODIFIED:20240503T144355Z
UID:5709-1746727200-1746732600@www.region2planning.com
SUMMARY:Jackson County Planning Commission Meeting
DESCRIPTION:The Jackson County Planning Commission meeting will be held at 6:00 p.m. at the Jackson County Tower Bldg.\, 5th Floor\, 120 W. Michigan Ave.\, Jackson\, MI 49201.
URL:https://www.region2planning.com/event/jackson-county-planning-commission-meeting-2-2025-05-08/
LOCATION:Jackson County Tower Building\, 120 West Michigan Avenue\, Jackson\, MI\, 49201\, United States
END:VEVENT
BEGIN:VEVENT
DTSTART;TZID=UTC:20250508T140000
DTEND;TZID=UTC:20250508T150000
DTSTAMP:20260422T085014
CREATED:20241211T133458Z
LAST-MODIFIED:20241211T133501Z
UID:6733-1746712800-1746716400@www.region2planning.com
SUMMARY:Region 2 Planning Commission Full Commission Meeting
DESCRIPTION:The Region 2 Planning Commission Full Commission meeting will take place at 2:00 p.m. at Hillsdale City Hall\, 97 N. Broad Street\, Hillsdale\, MI.
URL:https://www.region2planning.com/event/region-2-planning-commission-full-commission-meeting-15/
LOCATION:Hillsdale City Hall\, 97 N. Broad Street\, Hillsdale\, MI\, 49242\, United States
CATEGORIES:Region 2 Planning Commission
END:VEVENT
BEGIN:VEVENT
DTSTART;TZID=UTC:20250507T110000
DTEND;TZID=UTC:20250507T120000
DTSTAMP:20260422T085014
CREATED:20241218T164207Z
LAST-MODIFIED:20241218T164448Z
UID:6758-1746615600-1746619200@www.region2planning.com
SUMMARY:JACTS Technical Advisory Committee Meeting
DESCRIPTION:The JACTS TAC meeting will be held at 11:00 a.m. at Jackson City Hall\, 161 W. Michigan Ave.\, 2nd Floor\, Jackson\, MI 49201
URL:https://www.region2planning.com/event/jacts-technical-advisory-committee-meeting-45/
CATEGORIES:Jackson Area Comprehensive Transportation Study
END:VEVENT
BEGIN:VEVENT
DTSTART;TZID=UTC:20250417T180000
DTEND;TZID=UTC:20250417T190000
DTSTAMP:20260422T085014
CREATED:20190423T122949Z
LAST-MODIFIED:20190423T122949Z
UID:5699-1744912800-1744916400@www.region2planning.com
SUMMARY:Lenawee County Planning Commission Meeting
DESCRIPTION:The Lenawee County Planning Commission meeting will be held at the Lenawee Room of the Human Services Bldg.\, 1040 S. Winter Street\, Adrian\, MI.
URL:https://www.region2planning.com/event/lenawee-county-planning-commission-meeting-2-2025-04-17-2/
CATEGORIES:Lenawee County
END:VEVENT
BEGIN:VEVENT
DTSTART;TZID=UTC:20250417T080000
DTEND;TZID=UTC:20250417T090000
DTSTAMP:20260422T085014
CREATED:20221222T142758Z
LAST-MODIFIED:20221222T142758Z
UID:5671-1744876800-1744880400@www.region2planning.com
SUMMARY:JACTS Policy Committee Meeting
DESCRIPTION:The JACTS Policy Committee meeting will be held at 8:00 a.m. at the Jackson County Tower Bldg.\, 5th Floor\, 120 W. Michigan Ave.\, Jackson\, MI 49201.
URL:https://www.region2planning.com/event/jacts-policy-committee-meeting-3-2025-04-17/
END:VEVENT
BEGIN:VEVENT
DTSTART;TZID=UTC:20250410T180000
DTEND;TZID=UTC:20250410T193000
DTSTAMP:20260422T085014
CREATED:20190423T155246Z
LAST-MODIFIED:20240503T144355Z
UID:5655-1744308000-1744313400@www.region2planning.com
SUMMARY:Jackson County Planning Commission Meeting
DESCRIPTION:The Jackson County Planning Commission meeting will be held at 6:00 p.m. at the Jackson County Tower Bldg.\, 5th Floor\, 120 W. Michigan Ave.\, Jackson\, MI 49201.
URL:https://www.region2planning.com/event/jackson-county-planning-commission-meeting-2-2025-04-10/
LOCATION:Jackson County Tower Building\, 120 West Michigan Avenue\, Jackson\, MI\, 49201\, United States
END:VEVENT
BEGIN:VEVENT
DTSTART;TZID=UTC:20250409T110000
DTEND;TZID=UTC:20250409T120000
DTSTAMP:20260422T085014
CREATED:20241218T164940Z
LAST-MODIFIED:20241218T164942Z
UID:6759-1744196400-1744200000@www.region2planning.com
SUMMARY:JACTS Technical Advisory Committee Meeting
DESCRIPTION:The JACTS TAC meeting will be held at 11:00 a.m. at Jackson City Hall\, 161 W. Michigan Ave.\, 10th Floor\, Jackson\, MI 49201
URL:https://www.region2planning.com/event/jacts-technical-advisory-committee-meeting-46/
LOCATION:Jackson City Hall-10th Floor\, 161 West Michigan Avenue\, Jackson\, MI\, United States
CATEGORIES:Jackson Area Comprehensive Transportation Study
END:VEVENT
BEGIN:VEVENT
DTSTART;TZID=UTC:20250320T180000
DTEND;TZID=UTC:20250320T190000
DTSTAMP:20260422T085014
CREATED:20190423T122949Z
LAST-MODIFIED:20190423T122949Z
UID:5698-1742493600-1742497200@www.region2planning.com
SUMMARY:Lenawee County Planning Commission Meeting
DESCRIPTION:The Lenawee County Planning Commission meeting will be held at the Lenawee Room of the Human Services Bldg.\, 1040 S. Winter Street\, Adrian\, MI.
URL:https://www.region2planning.com/event/lenawee-county-planning-commission-meeting-2-2025-03-20/
CATEGORIES:Lenawee County
END:VEVENT
BEGIN:VEVENT
DTSTART;TZID=UTC:20250320T080000
DTEND;TZID=UTC:20250320T090000
DTSTAMP:20260422T085014
CREATED:20221222T142758Z
LAST-MODIFIED:20221222T142758Z
UID:5645-1742457600-1742461200@www.region2planning.com
SUMMARY:JACTS Policy Committee Meeting
DESCRIPTION:The JACTS Policy Committee meeting will be held at 8:00 a.m. at the Jackson County Tower Bldg.\, 5th Floor\, 120 W. Michigan Ave.\, Jackson\, MI 49201.
URL:https://www.region2planning.com/event/jacts-policy-committee-meeting-3-2025-03-20/
END:VEVENT
END:VCALENDAR