BEGIN:VCALENDAR
VERSION:2.0
PRODID:-//Region 2 Planning Commission - ECPv6.6.4.2//NONSGML v1.0//EN
CALSCALE:GREGORIAN
METHOD:PUBLISH
X-WR-CALNAME:Region 2 Planning Commission
X-ORIGINAL-URL:https://www.region2planning.com
X-WR-CALDESC:Events for Region 2 Planning Commission
REFRESH-INTERVAL;VALUE=DURATION:PT1H
X-Robots-Tag:noindex
X-PUBLISHED-TTL:PT1H
BEGIN:VTIMEZONE
TZID:UTC
BEGIN:STANDARD
TZOFFSETFROM:+0000
TZOFFSETTO:+0000
TZNAME:UTC
DTSTART:20220101T000000
END:STANDARD
END:VTIMEZONE
BEGIN:VEVENT
DTSTART;TZID=UTC:20221215T080000
DTEND;TZID=UTC:20221215T090000
DTSTAMP:20260420T094551
CREATED:20211230T161410Z
LAST-MODIFIED:20221208T155622Z
UID:4365-1671091200-1671094800@www.region2planning.com
SUMMARY:*CANCELED* JACTS Policy Committee Meeting
DESCRIPTION:The December 15\, 2022 JACTS Policy Committee meeting HAS BEEN CANCELED.
URL:https://www.region2planning.com/event/jacts-policy-committee-meeting-12/
LOCATION:Jackson County Tower Building\, 120 West Michigan Avenue\, Jackson\, MI\, 49201\, United States
CATEGORIES:Jackson Area Comprehensive Transportation Study
END:VEVENT
BEGIN:VEVENT
DTSTART;TZID=UTC:20221214T093000
DTEND;TZID=UTC:20221214T103000
DTSTAMP:20260420T094551
CREATED:20211230T153545Z
LAST-MODIFIED:20221208T155511Z
UID:4353-1671010200-1671013800@www.region2planning.com
SUMMARY:*CANCELED* JACTS Technical Advisory Committee Meeting
DESCRIPTION:The December 14\, 2022 JACTS Technical Advisory Committee meeting HAS BEEN CANCELED.
URL:https://www.region2planning.com/event/jacts-technical-advisory-committee-meeting-38/
LOCATION:Jackson City Hall-10th Floor\, 161 West Michigan Avenue\, Jackson\, MI\, United States
CATEGORIES:Jackson Area Comprehensive Transportation Study
END:VEVENT
BEGIN:VEVENT
DTSTART;TZID=UTC:20221208T180000
DTEND;TZID=UTC:20221208T193000
DTSTAMP:20260420T094551
CREATED:20190423T155246Z
LAST-MODIFIED:20240503T142126Z
UID:3837-1670522400-1670527800@www.region2planning.com
SUMMARY:Jackson County Planning Commission Meeting
DESCRIPTION:The Jackson County Planning Commission meeting will be held at 6:00 p.m. at the Jackson County Tower Bldg.\, 5th Floor\, 120 W. Michigan Ave.\, Jackson\, MI 49201.
URL:https://www.region2planning.com/event/jackson-county-planning-commission-meeting-2-2022-12-08/
LOCATION:Jackson County Tower Building\, 120 West Michigan Avenue\, Jackson\, MI\, 49201\, United States
END:VEVENT
BEGIN:VEVENT
DTSTART;TZID=UTC:20221208T140000
DTEND;TZID=UTC:20221208T150000
DTSTAMP:20260420T094551
CREATED:20211228T163654Z
LAST-MODIFIED:20211228T163654Z
UID:4334-1670508000-1670511600@www.region2planning.com
SUMMARY:Region 2 Planning Commission Mtg. – Executive Committee
DESCRIPTION:Meeting will be held at 2:00 p.m. at the Jackson County Tower Bldg.\, 120 W. Michigan Ave.\, 5th Floor\, Jackson\, MI.
URL:https://www.region2planning.com/event/region-2-planning-commission-mtg-executive-committee-6/
LOCATION:Jackson County Tower Building\, 120 West Michigan Avenue\, Jackson\, MI\, 49201\, United States
CATEGORIES:Region 2 Planning Commission
END:VEVENT
BEGIN:VEVENT
DTSTART;TZID=UTC:20221117T080000
DTEND;TZID=UTC:20221117T090000
DTSTAMP:20260420T094551
CREATED:20211230T161332Z
LAST-MODIFIED:20211230T161335Z
UID:4364-1668672000-1668675600@www.region2planning.com
SUMMARY:JACTS Policy Committee Meeting
DESCRIPTION:The JACTS Policy Committee meeting will be held at 8:00 a.m. at the Jackson County Tower Bldg.\, 120 W. Michigan\, 5th Floor\, Jackson\, MI 49201.
URL:https://www.region2planning.com/event/jacts-policy-committee-meeting-11/
LOCATION:Jackson County Tower Building\, 120 West Michigan Avenue\, Jackson\, MI\, 49201\, United States
CATEGORIES:Jackson Area Comprehensive Transportation Study
END:VEVENT
BEGIN:VEVENT
DTSTART;TZID=UTC:20221116T093000
DTEND;TZID=UTC:20221116T103000
DTSTAMP:20260420T094551
CREATED:20211230T153452Z
LAST-MODIFIED:20211230T153454Z
UID:4352-1668591000-1668594600@www.region2planning.com
SUMMARY:JACTS Technical Advisory Committee Meeting
DESCRIPTION:The JACTS Technical Advisory Committee meeting will be held at 9:30 a.m. at Jackson City Hall\, 10th Floor\, 161 W. Michigan Ave.\, Jackson\, MI 49201.
URL:https://www.region2planning.com/event/jacts-technical-advisory-committee-meeting-37/
LOCATION:Jackson City Hall-10th Floor\, 161 West Michigan Avenue\, Jackson\, MI\, United States
CATEGORIES:Jackson Area Comprehensive Transportation Study
END:VEVENT
BEGIN:VEVENT
DTSTART;TZID=UTC:20221110T180000
DTEND;TZID=UTC:20221110T200000
DTSTAMP:20260420T094551
CREATED:20211228T163918Z
LAST-MODIFIED:20221107T165518Z
UID:4335-1668103200-1668110400@www.region2planning.com
SUMMARY:Region 2 Planning Commission Meeting -- CANCELED
DESCRIPTION:This meeting has been canceled.
URL:https://www.region2planning.com/event/region-2-planning-commission-annual-dinner-meeting/
CATEGORIES:Region 2 Planning Commission
END:VEVENT
BEGIN:VEVENT
DTSTART;TZID=UTC:20221110T180000
DTEND;TZID=UTC:20221110T193000
DTSTAMP:20260420T094552
CREATED:20190423T155246Z
LAST-MODIFIED:20240503T142126Z
UID:3811-1668103200-1668108600@www.region2planning.com
SUMMARY:Jackson County Planning Commission Meeting
DESCRIPTION:The Jackson County Planning Commission meeting will be held at 6:00 p.m. at the Jackson County Tower Bldg.\, 5th Floor\, 120 W. Michigan Ave.\, Jackson\, MI 49201.
URL:https://www.region2planning.com/event/jackson-county-planning-commission-meeting-2-2022-11-10/
LOCATION:Jackson County Tower Building\, 120 West Michigan Avenue\, Jackson\, MI\, 49201\, United States
END:VEVENT
BEGIN:VEVENT
DTSTART;TZID=UTC:20221020T080000
DTEND;TZID=UTC:20221020T090000
DTSTAMP:20260420T094552
CREATED:20211230T161246Z
LAST-MODIFIED:20211230T161249Z
UID:4363-1666252800-1666256400@www.region2planning.com
SUMMARY:JACTS Policy Committee Meeting
DESCRIPTION:The JACTS Policy Committee meeting will be held at 8:00 a.m. at the Jackson County Tower Bldg.\, 120 W. Michigan\, 5th Floor\, Jackson\, MI 49201.
URL:https://www.region2planning.com/event/jacts-policy-committee-meeting-10/
LOCATION:Jackson County Tower Building\, 120 West Michigan Avenue\, Jackson\, MI\, 49201\, United States
CATEGORIES:Jackson Area Comprehensive Transportation Study
END:VEVENT
BEGIN:VEVENT
DTSTART;TZID=UTC:20221019T093000
DTEND;TZID=UTC:20221019T103000
DTSTAMP:20260420T094552
CREATED:20211230T153413Z
LAST-MODIFIED:20211230T153416Z
UID:4351-1666171800-1666175400@www.region2planning.com
SUMMARY:JACTS Technical Advisory Committee Meeting
DESCRIPTION:The JACTS Technical Advisory Committee meeting will be held at 9:30 a.m. at Jackson City Hall\, 10th Floor\, 161 W. Michigan Ave.\, Jackson\, MI 49201.
URL:https://www.region2planning.com/event/jacts-technical-advisory-committee-meeting-36/
LOCATION:Jackson City Hall-10th Floor\, 161 West Michigan Avenue\, Jackson\, MI\, United States
CATEGORIES:Jackson Area Comprehensive Transportation Study
END:VEVENT
BEGIN:VEVENT
DTSTART;TZID=UTC:20221013T180000
DTEND;TZID=UTC:20221013T193000
DTSTAMP:20260420T094552
CREATED:20190423T155246Z
LAST-MODIFIED:20240503T142126Z
UID:3790-1665684000-1665689400@www.region2planning.com
SUMMARY:Jackson County Planning Commission Meeting
DESCRIPTION:The Jackson County Planning Commission meeting will be held at 6:00 p.m. at the Jackson County Tower Bldg.\, 5th Floor\, 120 W. Michigan Ave.\, Jackson\, MI 49201.
URL:https://www.region2planning.com/event/jackson-county-planning-commission-meeting-2-2022-10-13/
LOCATION:Jackson County Tower Building\, 120 West Michigan Avenue\, Jackson\, MI\, 49201\, United States
END:VEVENT
BEGIN:VEVENT
DTSTART;TZID=UTC:20221013T140000
DTEND;TZID=UTC:20221013T150000
DTSTAMP:20260420T094552
CREATED:20211228T163550Z
LAST-MODIFIED:20211228T163550Z
UID:4333-1665669600-1665673200@www.region2planning.com
SUMMARY:Region 2 Planning Commission Mtg. – Executive Committee
DESCRIPTION:Meeting will be held at 2:00 p.m. at the Lenawee District Library\, 4459 W. U.S. 223\, Adrian\, MI.
URL:https://www.region2planning.com/event/region-2-planning-commission-mtg-executive-committee-5/
LOCATION:Lenawee District Library\, 4459 W. U.S. 223\, Adrian\, MI\, 49221\, United States
CATEGORIES:Region 2 Planning Commission
END:VEVENT
BEGIN:VEVENT
DTSTART;TZID=UTC:20220915T080000
DTEND;TZID=UTC:20220915T090000
DTSTAMP:20260420T094552
CREATED:20211230T161203Z
LAST-MODIFIED:20220907T191021Z
UID:4362-1663228800-1663232400@www.region2planning.com
SUMMARY:JACTS Policy Committee Meeting
DESCRIPTION:The JACTS Policy Committee meeting will be held at 8:00 a.m. at the Jackson County Tower Bldg.\, 120 W. Michigan\, 5th Floor\, Jackson\, MI 49201. \nThe agenda and packet for the meeting is available at the following link: http://www.region2planning.com/wp-content/uploads/2022/09/Packet_JACTS_Policy_9.15.2022.pdf \n*Agenda Item 5.b. files: \nEmployment Forecasts \nHousehold Forecasts \nPopulation Forecasts \nTraffic Analysis Zones (TAZ) Map of Jackson County
URL:https://www.region2planning.com/event/jacts-policy-committee-meeting-9/
LOCATION:Jackson County Tower Building\, 120 West Michigan Avenue\, Jackson\, MI\, 49201\, United States
CATEGORIES:Jackson Area Comprehensive Transportation Study
END:VEVENT
BEGIN:VEVENT
DTSTART;TZID=UTC:20220914T093000
DTEND;TZID=UTC:20220914T223000
DTSTAMP:20260420T094552
CREATED:20211230T153320Z
LAST-MODIFIED:20220907T190911Z
UID:4350-1663147800-1663194600@www.region2planning.com
SUMMARY:JACTS Technical Advisory Committee Meeting
DESCRIPTION:The JACTS Technical Advisory Committee meeting will be held at 9:30 a.m. at Jackson City Hall\, 10th Floor\, 161 W. Michigan Ave.\, Jackson\, MI 49201. \nThe agenda and packet for the meeting is available at the following link: http://www.region2planning.com/wp-content/uploads/2022/09/Packet_JACTS_TAC_9.14.2022.pdf \n*Agenda Item 5.b. files: \nEmployment Forecasts \nHousehold Forecasts \nPopulation Forecasts \nTraffic Analysis Zones (TAZ) Map of Jackson County
URL:https://www.region2planning.com/event/jacts-technical-advisory-committee-meeting-35/
LOCATION:Jackson City Hall-10th Floor\, 161 West Michigan Avenue\, Jackson\, MI\, United States
CATEGORIES:Jackson Area Comprehensive Transportation Study
END:VEVENT
BEGIN:VEVENT
DTSTART;TZID=UTC:20220908T180000
DTEND;TZID=UTC:20220908T193000
DTSTAMP:20260420T094552
CREATED:20190423T155246Z
LAST-MODIFIED:20200929T133957Z
UID:3697-1662660000-1662665400@www.region2planning.com
SUMMARY:Jackson County Planning Commission Meeting
DESCRIPTION:The Jackson County Planning Commission meeting will be held at 6:00 p.m. at the Jackson County Tower Bldg.\, 5th Floor\, 120 W. Michigan Ave.\, Jackson\, MI 49201.
URL:https://www.region2planning.com/event/jackson-county-planning-commission-meeting-2-2022-09-08/
LOCATION:Jackson County Tower Building\, 120 West Michigan Avenue\, Jackson\, MI\, 49201\, United States
END:VEVENT
BEGIN:VEVENT
DTSTART;TZID=UTC:20220908T140000
DTEND;TZID=UTC:20220908T150000
DTSTAMP:20260420T094552
CREATED:20211228T163405Z
LAST-MODIFIED:20211228T163443Z
UID:4332-1662645600-1662649200@www.region2planning.com
SUMMARY:Region 2 Planning Commission Mtg. – Full Commission
DESCRIPTION:Meeting will be held at 2:00 p.m. at the Jackson County Tower Bldg.\, 120 W. Michigan Ave.\, 5th Floor\, Jackson\, MI.
URL:https://www.region2planning.com/event/region-2-planning-commission-mtg-full-commission-6/
LOCATION:Jackson County Tower Building\, 120 West Michigan Avenue\, Jackson\, MI\, 49201\, United States
CATEGORIES:Region 2 Planning Commission
END:VEVENT
BEGIN:VEVENT
DTSTART;TZID=UTC:20220818T080000
DTEND;TZID=UTC:20220818T090000
DTSTAMP:20260420T094552
CREATED:20211230T161049Z
LAST-MODIFIED:20211230T161126Z
UID:4361-1660809600-1660813200@www.region2planning.com
SUMMARY:JACTS Policy Committee Meeting
DESCRIPTION:The JACTS Policy Committee meeting will be held at 8:00 a.m. at the Jackson County Tower Bldg.\, 120 W. Michigan\, 5th Floor\, Jackson\, MI 49201.
URL:https://www.region2planning.com/event/jacts-policy-committee-meeting-8/
LOCATION:Jackson County Tower Building\, 120 West Michigan Avenue\, Jackson\, MI\, 49201\, United States
CATEGORIES:Jackson Area Comprehensive Transportation Study
END:VEVENT
BEGIN:VEVENT
DTSTART;TZID=UTC:20220817T093000
DTEND;TZID=UTC:20220817T103000
DTSTAMP:20260420T094552
CREATED:20211230T153238Z
LAST-MODIFIED:20211230T153240Z
UID:4349-1660728600-1660732200@www.region2planning.com
SUMMARY:JACTS Technical Advisory Committee Meeting
DESCRIPTION:The JACTS Technical Advisory Committee meeting will be held at 9:30 a.m. at Jackson City Hall\, 10th Floor\, 161 W. Michigan Ave.\, Jackson\, MI 49201.
URL:https://www.region2planning.com/event/jacts-technical-advisory-committee-meeting-34/
LOCATION:Jackson City Hall-10th Floor\, 161 West Michigan Avenue\, Jackson\, MI\, United States
CATEGORIES:Jackson Area Comprehensive Transportation Study
END:VEVENT
BEGIN:VEVENT
DTSTART;TZID=UTC:20220811T140000
DTEND;TZID=UTC:20220811T150000
DTSTAMP:20260420T094552
CREATED:20211228T163247Z
LAST-MODIFIED:20211228T163247Z
UID:4331-1660226400-1660230000@www.region2planning.com
SUMMARY:Region 2 Planning Commission Mtg. – Executive Committee
DESCRIPTION:Meeting will be held at 2:00 p.m. at Hillsdale City Hall\, 97 N. Broad Street\, Hillsdale\, MI.
URL:https://www.region2planning.com/event/region-2-planning-commission-mtg-executive-committee-4/
LOCATION:Hillsdale City Hall\, 97 N. Broad Street\, Hillsdale\, MI\, 49242\, United States
CATEGORIES:Region 2 Planning Commission
END:VEVENT
BEGIN:VEVENT
DTSTART;TZID=UTC:20220721T080000
DTEND;TZID=UTC:20220721T090000
DTSTAMP:20260420T094552
CREATED:20211230T160944Z
LAST-MODIFIED:20220713T202751Z
UID:4360-1658390400-1658394000@www.region2planning.com
SUMMARY:JACTS Policy Committee Meeting
DESCRIPTION:The JACTS Policy Committee meeting will be held at 8:00 a.m. at the Jackson County Tower Bldg.\, 120 W. Michigan\, 5th Floor\, Jackson\, MI 49201. \nThe meeting agenda/packet is available at the following link: http://www.region2planning.com/wp-content/uploads/2022/07/Packet_JACTS_Policy_07.2022.pdf 
URL:https://www.region2planning.com/event/jacts-policy-committee-meeting-7/
LOCATION:Jackson County Tower Building\, 120 West Michigan Avenue\, Jackson\, MI\, 49201\, United States
END:VEVENT
BEGIN:VEVENT
DTSTART;TZID=UTC:20220720T093000
DTEND;TZID=UTC:20220720T103000
DTSTAMP:20260420T094552
CREATED:20211230T153042Z
LAST-MODIFIED:20220713T202713Z
UID:4347-1658309400-1658313000@www.region2planning.com
SUMMARY:JACTS Technical Advisory Committee Meeting
DESCRIPTION:The JACTS Technical Advisory Committee meeting will be held at 9:30 a.m. at Jackson City Hall\, 10th Floor\, 161 W. Michigan Ave.\, Jackson\, MI 49201. \nThe meeting agenda/packet is available at the following link: http://www.region2planning.com/wp-content/uploads/2022/07/Packet_JACTS_TAC_7.2022.pdf
URL:https://www.region2planning.com/event/jacts-technical-advisory-committee-meeting-32/
LOCATION:Jackson City Hall-10th Floor\, 161 West Michigan Avenue\, Jackson\, MI\, United States
CATEGORIES:Jackson Area Comprehensive Transportation Study
END:VEVENT
BEGIN:VEVENT
DTSTART;TZID=UTC:20220714T140000
DTEND;TZID=UTC:20220714T150000
DTSTAMP:20260420T094552
CREATED:20211228T163133Z
LAST-MODIFIED:20211228T163133Z
UID:4330-1657807200-1657810800@www.region2planning.com
SUMMARY:Region 2 Planning Commission Mtg. – Full Commission
DESCRIPTION:Meeting will be held at 2:00 p.m. at the Lenawee District Library\, 4459 W. U.S. 223\, Adrian\, MI.
URL:https://www.region2planning.com/event/region-2-planning-commission-mtg-full-commission-5/
LOCATION:Lenawee District Library\, 4459 W. U.S. 223\, Adrian\, MI\, 49221\, United States
CATEGORIES:Region 2 Planning Commission
END:VEVENT
BEGIN:VEVENT
DTSTART;TZID=UTC:20220624T093000
DTEND;TZID=UTC:20220624T103000
DTSTAMP:20260420T094552
CREATED:20220613T144440Z
LAST-MODIFIED:20220620T134016Z
UID:4966-1656063000-1656066600@www.region2planning.com
SUMMARY:Region #2 Rural Task Force (RTF) Meeting
DESCRIPTION:The Region #2 Rural Task Force (RTF) will meet on Friday\, June 24th\, 2022 from 9:30am – 10:30am to approve changes to Fiscal Year (FY) 2022 transportation projects utilizing either Highway Infrastructure Program (HIP) COVID Relief\, Surface Transportation Program – Rural (STL) or Transportation Economic Development Fund (TEDF) – Category D funds. \nThe agenda/packet for the meeting is available at the following link: http://www.region2planning.com/wp-content/uploads/2022/06/Packet_Region2_RTF_Meeting_6.24.2022.pdf  \nThe meeting will be head at the Jackson County Department of Transportation building at 2400 N. Elm Ave.\, Jackson\, MI 49201 \nIf you have any questions\, please reach out to Anton Schauerte\, Principal Transportation Planner at aschauerte@mijackson.org or at (517) 768-6703
URL:https://www.region2planning.com/event/region-2-rural-task-force-rtf-meeting/
END:VEVENT
BEGIN:VEVENT
DTSTART;TZID=UTC:20220616T080000
DTEND;TZID=UTC:20220616T090000
DTSTAMP:20260420T094552
CREATED:20211230T160859Z
LAST-MODIFIED:20220612T152407Z
UID:4359-1655366400-1655370000@www.region2planning.com
SUMMARY:JACTS Policy Committee Meeting
DESCRIPTION:The JACTS Policy Committee meeting will be held at 8:00 a.m. at the Jackson County Tower Bldg.\, 120 W. Michigan\, 5th Floor\, Jackson\, MI 49201. \nThe agenda packet is available at the following link: http://www.region2planning.com/wp-content/uploads/2022/06/Packet_JACTS_Policy_06.2022_V2.pdf \n*Agenda Item 4.B – DRAFT Socio-Economic Forecasts: \nHousehold Data: http://www.region2planning.com/wp-content/uploads/2022/06/Household_Forecast_2025-2050_JACTS_6.8.22.xlsx \nPopulation Data: http://www.region2planning.com/wp-content/uploads/2022/06/Population_Forecast_2025-2050_JACTS_6.8.22.xlsx  \nEmployment Data: http://www.region2planning.com/wp-content/uploads/2022/06/Employment_Forecast_2025-2050_JACTS_6.8.22.xlsx \n  \n**Agenda Item 5.B – Approval of FY23-26 Transportation Improvement Program (TIP): \nhttp://www.region2planning.com/wp-content/uploads/2022/06/FY23-26_JACTS_TIP_V3_6.8.22.pdf
URL:https://www.region2planning.com/event/jacts-policy-committee-meeting-6/
LOCATION:Jackson County Tower Building\, 120 West Michigan Avenue\, Jackson\, MI\, 49201\, United States
CATEGORIES:Jackson Area Comprehensive Transportation Study
END:VEVENT
BEGIN:VEVENT
DTSTART;TZID=UTC:20220615T093000
DTEND;TZID=UTC:20220615T103000
DTSTAMP:20260420T094552
CREATED:20211230T150659Z
LAST-MODIFIED:20220612T152344Z
UID:4346-1655285400-1655289000@www.region2planning.com
SUMMARY:JACTS Technical Advisory Committee Meeting
DESCRIPTION:The JACTS Technical Advisory Committee meeting will be held at 9:30 a.m. at Jackson City Hall\, 10th Floor\, 161 W. Michigan Ave.\, Jackson\, MI 49201. \nThe agenda packet can be found at the following link: http://www.region2planning.com/wp-content/uploads/2022/06/Packet_JACTS_TAC_06.2022_V2.pdf \n*Agenda Item 4.B – DRAFT Socio-Economic Forecasts: \nHousehold Data: http://www.region2planning.com/wp-content/uploads/2022/06/Household_Forecast_2025-2050_JACTS_6.8.22.xlsx \nPopulation Data: http://www.region2planning.com/wp-content/uploads/2022/06/Population_Forecast_2025-2050_JACTS_6.8.22.xlsx  \nEmployment Data: http://www.region2planning.com/wp-content/uploads/2022/06/Employment_Forecast_2025-2050_JACTS_6.8.22.xlsx \n**Agenda Item 5.B – Approval of FY23-26 Transportation Improvement Program (TIP): \nhttp://www.region2planning.com/wp-content/uploads/2022/06/FY23-26_JACTS_TIP_V3_6.8.22.pdf
URL:https://www.region2planning.com/event/jacts-technical-advisory-committee-meeting-31/
LOCATION:Jackson City Hall-10th Floor\, 161 West Michigan Avenue\, Jackson\, MI\, United States
CATEGORIES:Jackson Area Comprehensive Transportation Study
END:VEVENT
BEGIN:VEVENT
DTSTART;TZID=UTC:20220609T140000
DTEND;TZID=UTC:20220609T150000
DTSTAMP:20260420T094552
CREATED:20211228T155403Z
LAST-MODIFIED:20211228T155403Z
UID:4328-1654783200-1654786800@www.region2planning.com
SUMMARY:Region 2 Planning Commission Mtg. – Executive Committee
DESCRIPTION:Meeting will be held at 2:00 p.m. at the Jackson County Tower Bldg.\, 120 W. Michigan Ave.\, 5th Floor\, Jackson\, MI.
URL:https://www.region2planning.com/event/region-2-planning-commission-mtg-executive-committee-3/
CATEGORIES:Region 2 Planning Commission
END:VEVENT
BEGIN:VEVENT
DTSTART;TZID=UTC:20220519T080000
DTEND;TZID=UTC:20220519T090000
DTSTAMP:20260420T094552
CREATED:20211230T160805Z
LAST-MODIFIED:20220614T144531Z
UID:4358-1652947200-1652950800@www.region2planning.com
SUMMARY:JACTS Policy Committee Meeting
DESCRIPTION:The JACTS Policy Committee meeting will be held at 8:00 a.m. at the Jackson County Tower Bldg.\, 120 W. Michigan\, 5th Floor\, Jackson\, MI 49201. \nThe agenda/packet for the meeting can be found at the following link: http://www.region2planning.com/wp-content/uploads/2022/06/Packet_JACTS_Policy_05.2022-p.1-26-V2.pdf \nIf you have any questions\, please contact Anton Schauerte at aschauerte@mijackson.org or at (517) 768-6703
URL:https://www.region2planning.com/event/jacts-policy-committee-meeting-5/
LOCATION:Jackson County Tower Building\, 120 West Michigan Avenue\, Jackson\, MI\, 49201\, United States
CATEGORIES:Jackson Area Comprehensive Transportation Study
END:VEVENT
BEGIN:VEVENT
DTSTART;TZID=UTC:20220518T093000
DTEND;TZID=UTC:20220518T103000
DTSTAMP:20260420T094552
CREATED:20211230T150615Z
LAST-MODIFIED:20220614T144332Z
UID:4345-1652866200-1652869800@www.region2planning.com
SUMMARY:JACTS Technical Advisory Committee Meeting
DESCRIPTION:The JACTS Technical Advisory Committee meeting will be held at 9:30 a.m. at Jackson City Hall\, 10th Floor\, 161 W. Michigan Ave.\, Jackson\, MI 49201. \nThe agenda/packet for the meeting can be found at the following link: http://www.region2planning.com/wp-content/uploads/2022/06/Packet_JACTS_TAC_05.2022-p.1-26-V2.pdf \nIf you have any questions\, please contact Anton Schauerte at aschauerte@mijackson.org or at (517) 768-6703
URL:https://www.region2planning.com/event/jacts-technical-advisory-committee-meeting-30/
LOCATION:Jackson City Hall-10th Floor\, 161 West Michigan Avenue\, Jackson\, MI\, United States
CATEGORIES:Jackson Area Comprehensive Transportation Study
END:VEVENT
BEGIN:VEVENT
DTSTART;TZID=UTC:20220512T140000
DTEND;TZID=UTC:20220512T150000
DTSTAMP:20260420T094552
CREATED:20211228T155100Z
LAST-MODIFIED:20211228T155100Z
UID:4327-1652364000-1652367600@www.region2planning.com
SUMMARY:Region 2 Planning Commission Mtg. – Full Commission
DESCRIPTION:Meeting will be held at 2:00 p.m. at Hillsdale City Hall\, 97 N. Broad Street\, Hillsdale\, MI 49242.
URL:https://www.region2planning.com/event/region-2-planning-commission-mtg-full-commission-3/
LOCATION:Hillsdale City Hall\, 97 N. Broad Street\, Hillsdale\, MI\, 49242\, United States
CATEGORIES:Region 2 Planning Commission
END:VEVENT
BEGIN:VEVENT
DTSTART;TZID=UTC:20220421T080000
DTEND;TZID=UTC:20220421T090000
DTSTAMP:20260420T094552
CREATED:20211230T160720Z
LAST-MODIFIED:20220413T181710Z
UID:4357-1650528000-1650531600@www.region2planning.com
SUMMARY:JACTS Policy Committee Meeting
DESCRIPTION:The JACTS Policy Committee meeting will be held at 8:00 a.m. at the Jackson County Tower Bldg.\, 120 W. Michigan\, 5th Floor\, Jackson\, MI 49201. \nThe agenda/packet for the meeting can be found at the following link: http://www.region2planning.com/wp-content/uploads/2022/04/Packet_JACTS_Policy_04.2022.pdf \nIf you have any questions\, please contact Anton Schauerte at aschauerte@mijackson.org or at (517) 768-6703 \n 
URL:https://www.region2planning.com/event/jacts-policy-committee-meeting-4/
LOCATION:Jackson County Tower Building\, 120 West Michigan Avenue\, Jackson\, MI\, 49201\, United States
CATEGORIES:Jackson Area Comprehensive Transportation Study
END:VEVENT
END:VCALENDAR