BEGIN:VCALENDAR
VERSION:2.0
PRODID:-//Region 2 Planning Commission - ECPv6.6.4.2//NONSGML v1.0//EN
CALSCALE:GREGORIAN
METHOD:PUBLISH
X-ORIGINAL-URL:https://www.region2planning.com
X-WR-CALDESC:Events for Region 2 Planning Commission
REFRESH-INTERVAL;VALUE=DURATION:PT1H
X-Robots-Tag:noindex
X-PUBLISHED-TTL:PT1H
BEGIN:VTIMEZONE
TZID:UTC
BEGIN:STANDARD
TZOFFSETFROM:+0000
TZOFFSETTO:+0000
TZNAME:UTC
DTSTART:20260101T000000
END:STANDARD
END:VTIMEZONE
BEGIN:VEVENT
DTSTART;TZID=UTC:20260312T140000
DTEND;TZID=UTC:20260312T150000
DTSTAMP:20260420T125152
CREATED:20260120T162949Z
LAST-MODIFIED:20260120T163226Z
UID:7166-1773324000-1773327600@www.region2planning.com
SUMMARY:R2PC Full Commission Meeting
DESCRIPTION:The R2PC Full Commission meeting will be held at 2:00 p.m. at the Lenawee District Library\, 4459 W. U.S. 223\, Adrian\, MI 49221
URL:https://www.region2planning.com/event/r2pc-full-commission-meeting-8/
LOCATION:Lenawee District Library\, 4459 W. U.S. 223\, Adrian\, MI\, 49221\, United States
CATEGORIES:Region 2 Planning Commission
END:VEVENT
BEGIN:VEVENT
DTSTART;TZID=UTC:20260312T180000
DTEND;TZID=UTC:20260312T193000
DTSTAMP:20260420T125152
CREATED:20190423T155246Z
LAST-MODIFIED:20240503T141802Z
UID:6347-1773338400-1773343800@www.region2planning.com
SUMMARY:Jackson County Planning Commission Meeting
DESCRIPTION:The Jackson County Planning Commission meeting will be held at 6:00 p.m. at the Jackson County Tower Bldg.\, 5th Floor\, 120 W. Michigan Ave.\, Jackson\, MI 49201.
URL:https://www.region2planning.com/event/jackson-county-planning-commission-meeting-2-2026-03-12/
LOCATION:Jackson County Tower Building\, 120 West Michigan Avenue\, Jackson\, MI\, 49201\, United States
END:VEVENT
END:VCALENDAR