BEGIN:VCALENDAR
VERSION:2.0
PRODID:-//Region 2 Planning Commission - ECPv6.6.4.2//NONSGML v1.0//EN
CALSCALE:GREGORIAN
METHOD:PUBLISH
X-WR-CALNAME:Region 2 Planning Commission
X-ORIGINAL-URL:https://www.region2planning.com
X-WR-CALDESC:Events for Region 2 Planning Commission
REFRESH-INTERVAL;VALUE=DURATION:PT1H
X-Robots-Tag:noindex
X-PUBLISHED-TTL:PT1H
BEGIN:VTIMEZONE
TZID:UTC
BEGIN:STANDARD
TZOFFSETFROM:+0000
TZOFFSETTO:+0000
TZNAME:UTC
DTSTART:20250101T000000
END:STANDARD
END:VTIMEZONE
BEGIN:VEVENT
DTSTART;TZID=UTC:20251009T180000
DTEND;TZID=UTC:20251009T193000
DTSTAMP:20260420T084237
CREATED:20190423T155246Z
LAST-MODIFIED:20240503T144357Z
UID:5965-1760032800-1760038200@www.region2planning.com
SUMMARY:Jackson County Planning Commission Meeting
DESCRIPTION:The Jackson County Planning Commission meeting will be held at 6:00 p.m. at the Jackson County Tower Bldg.\, 5th Floor\, 120 W. Michigan Ave.\, Jackson\, MI 49201.
URL:https://www.region2planning.com/event/jackson-county-planning-commission-meeting-2-2025-10-09/
LOCATION:Jackson County Tower Building\, 120 West Michigan Avenue\, Jackson\, MI\, 49201\, United States
END:VEVENT
END:VCALENDAR